BEGIN:VCALENDAR
VERSION:2.0
PRODID:-//CODIM - ECPv6.7.1//NONSGML v1.0//EN
CALSCALE:GREGORIAN
METHOD:PUBLISH
X-WR-CALNAME:CODIM
X-ORIGINAL-URL:https://www.codim.pf
X-WR-CALDESC:Évènements pour CODIM
REFRESH-INTERVAL;VALUE=DURATION:PT1H
X-Robots-Tag:noindex
X-PUBLISHED-TTL:PT1H
BEGIN:VTIMEZONE
TZID:Pacific/Marquesas
BEGIN:STANDARD
TZOFFSETFROM:-0930
TZOFFSETTO:-0930
TZNAME:-0930
DTSTART:20160101T000000
END:STANDARD
END:VTIMEZONE
BEGIN:VEVENT
DTSTART;TZID=Pacific/Marquesas:20160429T153000
DTEND;TZID=Pacific/Marquesas:20160430T190000
DTSTAMP:20260423T211542
CREATED:20160413T071750Z
LAST-MODIFIED:20160413T071851Z
UID:2160-1461943800-1462042800@www.codim.pf
SUMMARY:Commission de développement économique n°2/2016
DESCRIPTION:La commission de développement économique se réunira une second fois pour finaliser l’élaboration des fiches d’actions dans les mêmes secteurs d’activités étudiés lors de la dernière séance: la pêche\, l’agriculture\, et la culture.
URL:https://www.codim.pf/event/commission-de-developpement-economique-n22016/
LOCATION:Hiva Oa\, Hiva Oa\, Marquises\, Polynésie Française
CATEGORIES:CODIM
ATTACH;FMTTYPE=image/jpeg:https://www.codim.pf/wp-content/uploads/2016/03/codim_siege-e1539299200548.jpg
ORGANIZER;CN="Communaut%C3%A9 de communes des %C3%AEles Marquises (CODIM)":MAILTO:contact@codim.pf
END:VEVENT
END:VCALENDAR