BEGIN:VCALENDAR
VERSION:2.0
PRODID:-//CODIM - ECPv6.7.1//NONSGML v1.0//EN
CALSCALE:GREGORIAN
METHOD:PUBLISH
X-WR-CALNAME:CODIM
X-ORIGINAL-URL:https://www.codim.pf
X-WR-CALDESC:Évènements pour CODIM
REFRESH-INTERVAL;VALUE=DURATION:PT1H
X-Robots-Tag:noindex
X-PUBLISHED-TTL:PT1H
BEGIN:VTIMEZONE
TZID:Pacific/Marquesas
BEGIN:STANDARD
TZOFFSETFROM:-0930
TZOFFSETTO:-0930
TZNAME:-0930
DTSTART:20160101T000000
END:STANDARD
END:VTIMEZONE
BEGIN:VEVENT
DTSTART;TZID=Pacific/Marquesas:20160318T153000
DTEND;TZID=Pacific/Marquesas:20160319T200000
DTSTAMP:20260423T214159
CREATED:20160308T190437Z
LAST-MODIFIED:20160308T193544Z
UID:1965-1458315000-1458417600@www.codim.pf
SUMMARY:Commission du Développement Economique n° CDE-1-2016
DESCRIPTION:La commission du développement économique se réunira pour travailler sur des fiches d’actions. \nOrdre du jour: \n\nPêche: concertations\, aménagement\, formation;\nArtisanat: formation\, statut\, matières premières;\nAgriculture: bois\, contrôle sanitaire\, reboisement durable;\nCulture et patrimoine: formation.
URL:https://www.codim.pf/event/commission-du-developpement-economique-n-cde-1-2016/
LOCATION:Hiva Oa\, Hiva Oa\, Marquises\, Polynésie Française
CATEGORIES:CODIM
ORGANIZER;CN="Communaut%C3%A9 de communes des %C3%AEles Marquises (CODIM)":MAILTO:contact@codim.pf
END:VEVENT
END:VCALENDAR