BEGIN:VCALENDAR
VERSION:2.0
PRODID:-//CODIM - ECPv6.7.1//NONSGML v1.0//EN
CALSCALE:GREGORIAN
METHOD:PUBLISH
X-WR-CALNAME:CODIM
X-ORIGINAL-URL:https://www.codim.pf
X-WR-CALDESC:Évènements pour CODIM
REFRESH-INTERVAL;VALUE=DURATION:PT1H
X-Robots-Tag:noindex
X-PUBLISHED-TTL:PT1H
BEGIN:VTIMEZONE
TZID:Pacific/Marquesas
BEGIN:STANDARD
TZOFFSETFROM:-0930
TZOFFSETTO:-0930
TZNAME:-0930
DTSTART:20160101T000000
END:STANDARD
END:VTIMEZONE
BEGIN:VEVENT
DTSTART;TZID=Pacific/Marquesas:20160624T153000
DTEND;TZID=Pacific/Marquesas:20160625T200000
DTSTAMP:20260423T213942
CREATED:20160308T185145Z
LAST-MODIFIED:20160611T063227Z
UID:1962-1466782200-1466884800@www.codim.pf
SUMMARY:Conseil Communautaire n° CC-2-2016
DESCRIPTION:Pour des raisons indépendantes du fonctionnement de la CODIM\, le conseil communautaire n°cc-2-2016 prévu les 20 et 21 mai à Nuku Hiva a été repoussé pour se tenir les 24 et 25 juin à Hiva Oa. Le séminaire de l’Etat à quant à lui été repoussé en septembre. \nOrdre du jour:\n\nValidation du Procès verbal des 26 et 27 février 2016\nJeux inter-îles Marquises\, présentation par Bruno TEHAAMOANA\nProjet du festival de TAHUATA 2017\, présentation par Félix BARSINAS\nPlan de Gestion des déchets de NUKU HIVA et état des lieux des CET des autres îles\, présentation par Sophie WANSON-ESCANDE\nValidation des projets de pêche et d’agriculture\, présentation par Gabriel TETIARAHI\nValidation des fiches d’actions relatives à la pêche\, l’agriculture\, la culture et le tourisme\nAffaires juridiques\, présentation par Mickaël FIDELE\nExamen et vote des délibérations\nVote du compte administratif de l’exercice 2015\n\n 
URL:https://www.codim.pf/event/conseil-communautaire-n-cc-2-2016/
LOCATION:Hiva Oa\, Hiva Oa\, Marquises\, Polynésie Française
CATEGORIES:CODIM
ORGANIZER;CN="Communaut%C3%A9 de communes des %C3%AEles Marquises (CODIM)":MAILTO:contact@codim.pf
END:VEVENT
END:VCALENDAR