BEGIN:VCALENDAR
VERSION:2.0
PRODID:-//CODIM - ECPv6.7.1//NONSGML v1.0//EN
CALSCALE:GREGORIAN
METHOD:PUBLISH
X-WR-CALNAME:CODIM
X-ORIGINAL-URL:https://www.codim.pf
X-WR-CALDESC:Évènements pour CODIM
REFRESH-INTERVAL;VALUE=DURATION:PT1H
X-Robots-Tag:noindex
X-PUBLISHED-TTL:PT1H
BEGIN:VTIMEZONE
TZID:Pacific/Marquesas
BEGIN:STANDARD
TZOFFSETFROM:-0930
TZOFFSETTO:-0930
TZNAME:-0930
DTSTART:20170101T000000
END:STANDARD
END:VTIMEZONE
BEGIN:VEVENT
DTSTART;TZID=Pacific/Marquesas:20170527T080000
DTEND;TZID=Pacific/Marquesas:20170527T113000
DTSTAMP:20260423T214051
CREATED:20170524T203414Z
LAST-MODIFIED:20170908T011711Z
UID:3055-1495872000-1495884600@www.codim.pf
SUMMARY:Réunion publique: Hiva toa
DESCRIPTION:Intervenants:\n\nLa CODIM représentée par les 6 maires des îles Marquises;\nLa SARL Big Eye représentée par Tutu TETUANUI;\nLes coopératives de pêcheurs représentées par leurs présidents;
URL:https://www.codim.pf/event/reunion-publique-hiva-toa/
LOCATION:Hiva Oa\, Hiva Oa\, Marquises\, Polynésie Française
CATEGORIES:CODIM
ATTACH;FMTTYPE=image/jpeg:https://www.codim.pf/wp-content/uploads/2017/05/oj_comm_reunion_pub_27052017.jpg
ORGANIZER;CN="Communaut%C3%A9 de communes des %C3%AEles Marquises (CODIM)":MAILTO:contact@codim.pf
END:VEVENT
END:VCALENDAR