BEGIN:VCALENDAR
VERSION:2.0
PRODID:-//CODIM - ECPv6.7.1//NONSGML v1.0//EN
CALSCALE:GREGORIAN
METHOD:PUBLISH
X-WR-CALNAME:CODIM
X-ORIGINAL-URL:https://www.codim.pf
X-WR-CALDESC:Évènements pour CODIM
REFRESH-INTERVAL;VALUE=DURATION:PT1H
X-Robots-Tag:noindex
X-PUBLISHED-TTL:PT1H
BEGIN:VTIMEZONE
TZID:Pacific/Marquesas
BEGIN:STANDARD
TZOFFSETFROM:-0930
TZOFFSETTO:-0930
TZNAME:-0930
DTSTART:20180101T000000
END:STANDARD
END:VTIMEZONE
BEGIN:VEVENT
DTSTART;VALUE=DATE:20180522
DTEND;VALUE=DATE:20180525
DTSTAMP:20260423T213912
CREATED:20180411T005023Z
LAST-MODIFIED:20181011T224451Z
UID:3682-1526947200-1527206399@www.codim.pf
SUMMARY:Conseil communautaire CC2-2018 délocalisé à Ua Pou
DESCRIPTION:Les membres délégués de la CODIM se réuniront à Ua Pou du mardi 22 au vendredi 25 mai pour le deuxième conseil communautaire de l’année 2018. Le programme est en cours d’élaboration \nMardi 22 mai 2018 : 1ère séance de 13:30 à 18:30 \n\n\n\n \n\n\n\nPoints abordés \n\n\nIntervenants \n\n\n\n\nValidation du PV du CC n°1_2018 de Fatu Hiva \n\n\nM. BARSINAS F. \n\n\n\n\nProjet éco-sentinel \n\n\nFr. Maxime \n\n\n\n\nMatavaa Ua Pou 2019 \n\n\nM. BRUNEAU A. \n\n\n\n\nProjet salon du tourisme à Paris – Mars 2019 \n\n\nM. TEIKIEHUUPOKO H. \n\n\n\n\nProjet culturel Tuana Tuaka \n\n\nAss. Tuaka Nui \n\n\n\n\nAvancement du projet UNESCO Marquises \n\n\nM. BARSINAS F. et Mme. KUCHINKE M. \n\n\n\n\nProjet d’aire marine protégée Te Tai Nui a Hau \n\n\nM. BARSINAS F. \n\n\n\n\nMercredi 23 mai 2018 : 2ème séance de 08:00 à 11:45 \n\n\n\n \n\n\n\nPoints abordés \n\n\nIntervenants \n\n\n\n\nLes minis-jeux du sud \n\n\nM. MAPUNA E. \n\n\n\n\nLes minis-jeux du nord \n\n\nM. KOHUMOETINI E. \n\n\n\n\nProjet FTF \n\n\nM. KOHUMOETINI E. \n\n\n\n\nJeudi 24 mai 2018 : 3ème séance de 08:00 à 11:45 \n\n\n\n \n\n\n\nPoints abordés \n\n\nIntervenants \n\n\n\n\nLe service civique \n\n\nMme. ATA B. \n\n\n\n\nVote du Compte Administratif 2017 et résultat \n\n\nMme. ATA B. \n\n\n\n\nBilan des activités 2017 \n\n\nMme. KUCHINKE M. \n\n\n\n\nPréparation du déplacement en France – Juin 2018 \n\n\nM. FIDELE. M \n\n\n\n\nVote des délibérations et décisions modificatives \n\n\nMme. ATA B. \n\n\n\n\nQuestions diverses \n\n\nM. BARSINAS F.
URL:https://www.codim.pf/event/conseil-communautaire-cc2-2018-delocalise-a-ua-pou/
LOCATION:Ua Pou
CATEGORIES:CODIM
ATTACH;FMTTYPE=image/png:https://www.codim.pf/wp-content/uploads/2015/07/CODIM-LOGO-PANTONE-copie-e1523408116290.png
ORGANIZER;CN="Communaut%C3%A9 de communes des %C3%AEles Marquises (CODIM)":MAILTO:contact@codim.pf
END:VEVENT
END:VCALENDAR