BEGIN:VCALENDAR
VERSION:2.0
PRODID:-//CODIM - ECPv6.7.1//NONSGML v1.0//EN
CALSCALE:GREGORIAN
METHOD:PUBLISH
X-WR-CALNAME:CODIM
X-ORIGINAL-URL:https://www.codim.pf
X-WR-CALDESC:Évènements pour CODIM
REFRESH-INTERVAL;VALUE=DURATION:PT1H
X-Robots-Tag:noindex
X-PUBLISHED-TTL:PT1H
BEGIN:VTIMEZONE
TZID:Pacific/Marquesas
BEGIN:STANDARD
TZOFFSETFROM:-0930
TZOFFSETTO:-0930
TZNAME:-0930
DTSTART:20190101T000000
END:STANDARD
END:VTIMEZONE
BEGIN:VEVENT
DTSTART;VALUE=DATE:20190126
DTEND;VALUE=DATE:20190127
DTSTAMP:20260423T213744
CREATED:20190122T182528Z
LAST-MODIFIED:20190122T183009Z
UID:3921-1548460800-1548547199@www.codim.pf
SUMMARY:Conseil Communautaire CC1-2019 délocalisé à Taiohae
DESCRIPTION:Les élus de la Communauté de communes des îles Marquises se réuniront à Taiohae\, NUKU HIVA le 26 janvier pour traiter plusieurs sujets. Le projet d’ordre du jour est le suivant: \n1- Validation PV du CC4-2018 AUQ\n2- PATUTIKI (Procédures signatures\, Teiki HUUKENA\, 10 min)\n3- Point sur UNESCO Marquises\n4- Point sur les chemins de randonnées et proposition de topoguides\n5- Point sur le projet salon du tourisme à Paris\n6- Projet de déplacement en Nouvelle Calédonie à valider\n7- Plan de financement DETR – Informatique\n8- Acquisition houses matelas\n9- Demande de subventions\n10- Vote du Budget 2019\n11- Questions diverses
URL:https://www.codim.pf/event/conseil-communautaire-n1-2019-a-taiohae/
LOCATION:Nuku Hiva
CATEGORIES:CODIM
ORGANIZER;CN="Communaut%C3%A9 de communes des %C3%AEles Marquises (CODIM)":MAILTO:contact@codim.pf
END:VEVENT
END:VCALENDAR