BEGIN:VCALENDAR
VERSION:2.0
PRODID:-//CODIM - ECPv6.7.1//NONSGML v1.0//EN
CALSCALE:GREGORIAN
METHOD:PUBLISH
X-WR-CALNAME:CODIM
X-ORIGINAL-URL:https://www.codim.pf
X-WR-CALDESC:Évènements pour CODIM
REFRESH-INTERVAL;VALUE=DURATION:PT1H
X-Robots-Tag:noindex
X-PUBLISHED-TTL:PT1H
BEGIN:VTIMEZONE
TZID:Pacific/Marquesas
BEGIN:STANDARD
TZOFFSETFROM:-0930
TZOFFSETTO:-0930
TZNAME:-0930
DTSTART:20180101T000000
END:STANDARD
END:VTIMEZONE
BEGIN:VEVENT
DTSTART;VALUE=DATE:20180901
DTEND;VALUE=DATE:20180902
DTSTAMP:20260423T212819
CREATED:20181011T224928Z
LAST-MODIFIED:20181011T224928Z
UID:3877-1535760000-1535846399@www.codim.pf
SUMMARY:Conseil Communautaire n°3-2018 délocalisé à Nuku Hiva
DESCRIPTION:Points abordés\n\nIntervenants \n\n\n\n07H30 – 07H55\nValidation du PV du CC n°2_2018 de Ua Pou\n\nM. Félix BARSINAS \n\n\n\n08H00 – 10H00\nEvolution du CGCT\n\nM. Moetai BROTHERSON \n\n\n\n10H10 – 12H00\nAvant-Première du documentaire Patutiki\n\nAss° PATUTIKI \n\n\n\n14H00 – 14H55\nTe Tuàka / Te Tuàna\n\nM. Teaiki PIHAHUNA et Mme Vanina MA – Comité Te Tuàka project \n\n\n\n15H00 – 15H55\nGibier aux Marquises\n\nMme Valérie ANTRAS – Direction Agriculture \n\n\n\n16H00 – 16H55\nConseiller en énergie partagé\n\nM. Samy HAMDI – ADEME \n\n\n\n17H00 – 17H40\nVote : Budget supplémentaire et délibérations\n\nM. Félix BARSINAS
URL:https://www.codim.pf/event/conseil-communautaire-n3-2018-delocalise-a-nuku-hiva/
LOCATION:Nuku Hiva
CATEGORIES:CODIM
END:VEVENT
END:VCALENDAR