BEGIN:VCALENDAR
VERSION:2.0
PRODID:-//CODIM - ECPv6.7.1//NONSGML v1.0//EN
CALSCALE:GREGORIAN
METHOD:PUBLISH
X-ORIGINAL-URL:https://www.codim.pf
X-WR-CALDESC:Évènements pour CODIM
REFRESH-INTERVAL;VALUE=DURATION:PT1H
X-Robots-Tag:noindex
X-PUBLISHED-TTL:PT1H
BEGIN:VTIMEZONE
TZID:Pacific/Marquesas
BEGIN:STANDARD
TZOFFSETFROM:-0930
TZOFFSETTO:-0930
TZNAME:-0930
DTSTART:20170101T000000
END:STANDARD
END:VTIMEZONE
BEGIN:VEVENT
DTSTART;TZID=Pacific/Marquesas:20170902T073000
DTEND;TZID=Pacific/Marquesas:20170902T083000
DTSTAMP:20260425T061732
CREATED:20170908T011931Z
LAST-MODIFIED:20170911T202724Z
UID:3345-1504337400-1504341000@www.codim.pf
SUMMARY:Commission Sportive et Culturelle CSC1_2017
DESCRIPTION:La première commission sportive et culturelle se réunira en session ordinaire le 2 septembre à Nuku Hiva \nOrdre du jour:\n\nFonctionnement et rôle de la commission\nAvancement des jeux organisés par le comité de la jeunesse et sport de Nuku Hiva\nDécision sur la demande de subvention destinée à la ligue de va’a\n\n 
URL:https://www.codim.pf/event/commission-sportive-et-culturelle-csc1_2017/
LOCATION:Nuku Hiva
CATEGORIES:CODIM,Commission Sportive et Culturelle,Sport
ATTACH;FMTTYPE=image/jpeg:https://www.codim.pf/wp-content/uploads/2016/03/codim_siege-e1539299200548.jpg
ORGANIZER;CN="Communaut%C3%A9 de communes des %C3%AEles Marquises (CODIM)":MAILTO:contact@codim.pf
END:VEVENT
END:VCALENDAR