BEGIN:VCALENDAR
VERSION:2.0
PRODID:-//CODIM - ECPv6.7.1//NONSGML v1.0//EN
CALSCALE:GREGORIAN
METHOD:PUBLISH
X-ORIGINAL-URL:https://www.codim.pf
X-WR-CALDESC:Évènements pour CODIM
REFRESH-INTERVAL;VALUE=DURATION:PT1H
X-Robots-Tag:noindex
X-PUBLISHED-TTL:PT1H
BEGIN:VTIMEZONE
TZID:Pacific/Marquesas
BEGIN:STANDARD
TZOFFSETFROM:-0930
TZOFFSETTO:-0930
TZNAME:-0930
DTSTART:20190101T000000
END:STANDARD
END:VTIMEZONE
BEGIN:VEVENT
DTSTART;TZID=Pacific/Marquesas:20191216T150000
DTEND;TZID=Pacific/Marquesas:20191219T200000
DTSTAMP:20260423T234949
CREATED:20190826T222511Z
LAST-MODIFIED:20190826T222511Z
UID:5322-1576508400-1576785600@www.codim.pf
SUMMARY:12ème Festival des Arts des Îles Marquises - Ua Pou
DESCRIPTION:Cette année 2019\, le festival des arts des îles Marquises connu localement comme le Matavaa o te Henua Enana se passera à Ua Pou du lundi 16 au jeudi 19 décembre. \nComme tous les 2 ans\, toutes les 6 communes se rassemblent autour de danses\, chants\, art et surtout un grand kaikai communautaire.
URL:https://www.codim.pf/event/12eme-festival-des-arts-des-iles-marquises-ua-pou/
LOCATION:Ua Pou
CATEGORIES:Festival des arts des Marquises
ATTACH;FMTTYPE=image/jpeg:https://www.codim.pf/wp-content/uploads/2019/08/matavaa2019.jpg
ORGANIZER;CN="Comit%C3%A9 Organisateur du Matavaa O Te Henua Enata (COMOTHE)":MAILTO:contact.comothe@gmail.com
END:VEVENT
END:VCALENDAR