BEGIN:VCALENDAR
VERSION:2.0
PRODID:-//CODIM - ECPv6.7.1//NONSGML v1.0//EN
CALSCALE:GREGORIAN
METHOD:PUBLISH
X-WR-CALNAME:CODIM
X-ORIGINAL-URL:https://www.codim.pf
X-WR-CALDESC:Évènements pour CODIM
REFRESH-INTERVAL;VALUE=DURATION:PT1H
X-Robots-Tag:noindex
X-PUBLISHED-TTL:PT1H
BEGIN:VTIMEZONE
TZID:Pacific/Marquesas
BEGIN:STANDARD
TZOFFSETFROM:-0930
TZOFFSETTO:-0930
TZNAME:-0930
DTSTART:20170101T000000
END:STANDARD
END:VTIMEZONE
BEGIN:VEVENT
DTSTART;TZID=Pacific/Marquesas:20170526T160000
DTEND;TZID=Pacific/Marquesas:20170527T200000
DTSTAMP:20260425T065333
CREATED:20170911T201720Z
LAST-MODIFIED:20170911T201720Z
UID:3339-1495814400-1495915200@www.codim.pf
SUMMARY:Conseil Communautaire cc2_2017
DESCRIPTION:Le conseil communautaire se réunira en sessions ordinaires les 26 et 27 mai 2017 à Hiva Oa. \nOrdre du jour:\nSéance ordinaire du vendredi 24 mai 2017 : \n\nApprobation du PV CC1-2017 des séances ordinaires des 24 et 25 février 2017\nDocumentaire Patutiki : avancement du projet\nCompte-rendu des missions du bureau exécutif à tahiti du 3 au 7 avril 2017\nProjet UNESCO Marquises : projet de fiche de poste du chef de projet\n\nSéance ordinaire du samedi 25 mai 2017 : \n\nRéunion publique sur le développement de la pêche durable et responsable aux Marquises\nDemande de subvention pour l’organisation des mini jeux des marquises nord\nDemande de subvention pour l’organisation de divers événements sportifs organisés à Hiva Oa par l’association Tama o Hiva\nDemande de subvention pour l’organisation de tournois de football et futsal aux Marquises par la fédération tahitienne de football\nDemande de subvention par la ligue de vaa pour l’accompagnement d’un projet éducatif de va’a au sein des établissements scolaires des Marquises du 1er et 2ème degré\nDemande de subvention d’investissement par radio marquises\nApprobation du compte administratif 2016\nAffectation du résultat 2016\nEquilibre du budget primitif 2017 en fonction des nouvelles dépenses\nCréation d’une commission sportive et culturelle\nParticipation à la première conférence des océans des Nations Unis\nParticipation au séminaire te Puke ora no Fakarava\nApprobation du budget supplémentaire 2017
URL:https://www.codim.pf/event/conseil-communautaire-cc2_2017/
LOCATION:Hiva Oa\, Hiva Oa\, Marquises\, Polynésie Française
CATEGORIES:CODIM,Commission Sportive et Culturelle,Sport
ATTACH;FMTTYPE=image/jpeg:https://www.codim.pf/wp-content/uploads/2016/03/codim_siege-e1539299200548.jpg
ORGANIZER;CN="Communaut%C3%A9 de communes des %C3%AEles Marquises (CODIM)":MAILTO:contact@codim.pf
END:VEVENT
END:VCALENDAR